Workbook
Name その２: #REF!
Name その２: #REF!
Name その２: #REF!
Name その２: #REF!
Name その２: #REF!
Name 区分①: #REF!
Name 区分①: #REF!
Name 区分①: #REF!
Name 区分①: #REF!
Name 区分①: #REF!
Name 区分①: #REF!
Name 区分①: #REF!
Name 区分②の１: #REF!
Name 区分②の１: #REF!
Name 区分②の１: #REF!
Name 区分②の１: #REF!
Name 区分②の１: #REF!
Name 区分②の１: #REF!
Name 区分②の１: #REF!
Name 区分②の２: #REF!
Name 区分②の２: #REF!
Name 区分②の２: #REF!
Name 区分②の２: #REF!
Name 区分②の２: #REF!
Name 区分②の２: #REF!
Name 区分②の２: #REF!
Name 区分②の３: #REF!
Name 区分②の３: #REF!
Name 区分②の３: #REF!
Name 区分②の３: #REF!
Name 区分②の３: #REF!
Name 区分②の３: #REF!
Name 区分②の３: #REF!
Name 区分③: #REF!
Name 区分③: #REF!
Name 区分③: #REF!
Name 区分③: #REF!
Name 区分③: #REF!
Name 区分③: #REF!
Name 区分③: #REF!
Name 区分③10分の10: #REF!,#REF!
Name 区分③10分の10: #REF!,#REF!
Name 区分③10分の10: #REF!,#REF!
Name 区分③10分の10: #REF!,#REF!
Name 区分③10分の10: #REF!,#REF!
Name 区分③10分の10: #REF!,#REF!
Name 区分③10分の10: #REF!,#REF!
Name 区分④: #REF!
Name 区分④: #REF!
Name 区分④: #REF!
Name 区分④: #REF!
Name 区分④: #REF!
Name 区分④: #REF!
Name 区分④: #REF!
Name 区分⑤: #REF!
Name 区分⑤: #REF!
Name 区分⑤: #REF!
Name 区分⑤: #REF!
Name 区分⑤: #REF!
Name 区分⑤: #REF!

Sheet 別紙1 事業報告書
A1: （第5号様式 別紙1）
A2: 事業報告書
A3: （１）子ども食堂 事業報告書
A4: 1 | B4: 名称及び運営者 | F4: 子ども食堂名 | AC4: 届出 | AD4: 個人
F5: 運営団体名 | AC5: 指導 | AD5: 任意団体
F6: 団体種別 | M6: 代表者氏名 | AC6: 届出 | AD6: 個人
A7: 2 | B7: 事業開始年月日 | I7: 年 | K7: 月 | M7: 日 | N7: ※ 月により開催回数が 変わる場合、各開催回数ごとに月数を記すこと | P7: 月間開催回数 | R7: 月数 | AC7: 許可 | AD7: NPO
A8: 3 | B8: 年間実施回数 | M8: 回 | P8: 1 | AC8: その他 | AD8: 株式会社
A9: 4 | B9: 月間開催回数 | M9: 回 | P9: 2 | AD9: 社会福祉法人
A10: 5 | B10: 実施月数 | M10: 月 | P10: 3回以上/月 | AD10: 一般社団法人
A11: 6 | B11: 加入保険内容 | F11: 保険者 | AD11: 〇
F12: 保険名称/ 内容
A13: 7 | B13: 保健所に対する手続の内容 | F13: 所管保健所名 | P13: 手続の種別 | AD13: 昭和
F14: 手続内容 | AD14: 平成
A15: 8 | B15: 1回あたりの定員 （標準的な定員を記入する） | H15: =SUM(Q15:R17) -> 0 | L15: 人 | M15: 内訳 | N15: 0～17歳の子ども | S15: 人 | AC15: 〇 | AD15: 令和
N16: 保護者 | S16: 人
N17: その他 | S17: 人
A18: 9 | B18: 年間利用者実績 （延べ人数） | H18: =SUM(Q18:R20) -> 0 | L18: 人 | M18: 内訳 | N18: 0～17歳の子ども | Q18: ='別紙2 収支精算書（食堂）'!D19 -> 0 | S18: 人
N19: 保護者 | Q19: ='別紙2 収支精算書（食堂）'!E19 -> 0 | S19: 人
N20: その他 | Q20: ='別紙2 収支精算書（食堂）'!F19 -> 0 | S20: 人
A22: (2) 配食・宅食 事業報告書
A23: 1 | B23: 事業開始年月日 | I23: 年 | K23: 月 | M23: 日
A24: 2 | B24: 年間利用者実績 （延べ人数） | H24: =SUM(Q24:R26) -> 0 | L24: 人 | M24: 内訳 | N24: 0～17歳の子ども | S24: 人
N25: 保護者 | S25: 人
N26: その他 | S26: 人
A27: 3 | B27: 月間開催回数 | M27: 回
A28: 4 | B28: 実施月数 | M28: 月
AD29: 個人
A30: （3）連絡会の参加実績
A31: 参加した日を記入 | AC31: 届出
AD32: 個人
A33: （4）研修会の参加実績
A34: 参加した日を記入 | AC34: 届出
AD35: 個人
A36: （5）市の機関に相談した要支援家庭のケース数
A37: ケース数 | J37: 相談機関 | AC37: 届出
A39: ○ | B39: 実施に当たっての確認事項
A40: No | B40: 確認事項 | O40: 確認（プルダウンで選択）
A41: 1 | B41: 責任者の常時配置：事業実施時は常時、責任者を配置し安全に配慮して開催する。
A42: 2 | B42: スタッフ体制の確保：事業規模に応じた必要なスタッフ体制を確保する。
...

Sheet 別紙1　事業報告書 (立上げ支援)
A1: （第5号様式 別紙1）
A2: 事業報告書
A3: （5）新たな子ども食堂の立上げ・支援の拡充 事業報告書
A4: 実施内容等の 詳細 | D4: 実施日
D5: 実施場所
D6: 立上げ 支援の拡充 （当てはまるものに、〇をつけてください） | H6: 支援の拡充に〇をつけた場合は、拡充した内容を記載してください。
D7: 実施した内容 （具体的に記入）
D8: その他特記事項

Sheet 別紙2　収支精算書（食堂）
A1: （第5号様式 別紙2）収支精算書 | L1: 1/2
I2: 団体名： | J2: ='別紙1 事業報告書'!I5 -> 0
A4: (1) 子ども食堂の開催に係る経費
B5: 開催月 | C5: 開催回数 | D5: 参加人数 | G5: 子ども食堂支出額 | K5: 収入額（B） | L5: 子ども食堂 実支出額 （A-B）
D6: 0～17歳 の子ども | E6: 保護者 | F6: その他 | G6: 需用費 | H6: 使用料及び 賃借料 | I6: 役務費等 | J6: 支出額合計（A）
A7: 1 | B7: 令和8年4月 | C7: ='別紙3（４月・食堂）事業実施明細表'!C$8 -> 0 | D7: ='別紙3（４月・食堂）事業実施明細表'!D$12 -> 0 | E7: ='別紙3（４月・食堂）事業実施明細表'!F$12 -> 0 | F7: ='別紙3（４月・食堂）事業実施明細表'!I$12 -> 0 | J7: =SUM(G7:I7) -> 0 | K7: ='別紙3（４月・食堂）事業実施明細表'!C$27 -> 0 | L7: =J7-K7 -> 0
A8: 2 | B8: 令和8年5月 | C8: ='別紙3（５月・食堂）事業実施明細表'!C$8 -> 0 | D8: ='別紙3（５月・食堂）事業実施明細表'!D$12 -> 0 | E8: ='別紙3（５月・食堂）事業実施明細表'!F$12 -> 0 | F8: ='別紙3（５月・食堂）事業実施明細表'!I$12 -> 0 | J8: =SUM(G8:I8) -> 0 | K8: ='別紙3（５月・食堂）事業実施明細表'!C$27 -> 0 | L8: =J8-K8 -> 0
A9: 3 | B9: 令和8年6月 | C9: ='別紙3（６月・食堂）事業実施明細表'!C$8 -> 0 | D9: ='別紙3（６月・食堂）事業実施明細表'!D$12 -> 0 | E9: ='別紙3（６月・食堂）事業実施明細表'!F$12 -> 0 | F9: ='別紙3（６月・食堂）事業実施明細表'!I$12 -> 0 | J9: =SUM(G9:I9) -> 0 | K9: ='別紙3（６月・食堂）事業実施明細表'!C$27 -> 0 | L9: =J9-K9 -> 0
A10: 4 | B10: 令和8年7月 | C10: ='別紙３（７月・食堂）事業実施明細表'!C$8 -> 0 | D10: ='別紙３（７月・食堂）事業実施明細表'!D$12 -> 0 | E10: ='別紙３（７月・食堂）事業実施明細表'!F$12 -> 0 | F10: ='別紙３（７月・食堂）事業実施明細表'!I$12 -> 0 | J10: =SUM(G10:I10) -> 0 | K10: ='別紙３（７月・食堂）事業実施明細表'!C$27 -> 0 | L10: =J10-K10 -> 0
A11: 5 | B11: 令和8年8月 | C11: ='別紙3（８月・食堂）事業実施明細表'!C$8 -> 0 | D11: ='別紙3（８月・食堂）事業実施明細表'!D$12 -> 0 | E11: ='別紙3（８月・食堂）事業実施明細表'!F$12 -> 0 | F11: ='別紙3（８月・食堂）事業実施明細表'!I$12 -> 0 | J11: =SUM(G11:I11) -> 0 | K11: ='別紙3（８月・食堂）事業実施明細表'!C$27 -> 0 | L11: =J11-K11 -> 0
A12: 6 | B12: 令和8年9月 | C12: ='別紙3（９月・食堂）事業実施明細表'!C$8 -> 0 | D12: ='別紙3（９月・食堂）事業実施明細表'!D$12 -> 0 | E12: ='別紙3（９月・食堂）事業実施明細表'!F$12 -> 0 | F12: ='別紙3（９月・食堂）事業実施明細表'!I$12 -> 0 | J12: =SUM(G12:I12) -> 0 | K12: ='別紙3（９月・食堂）事業実施明細表'!C$27 -> 0 | L12: =J12-K12 -> 0
A13: 7 | B13: 令和8年10月 | C13: ='別紙３（10月・食堂）事業実施明細表'!C$8 -> 0 | D13: ='別紙３（10月・食堂）事業実施明細表'!D$12 -> 0 | E13: ='別紙３（10月・食堂）事業実施明細表'!F$12 -> 0 | F13: ='別紙３（10月・食堂）事業実施明細表'!I$12 -> 0 | J13: =SUM(G13:I13) -> 0 | K13: ='別紙３（10月・食堂）事業実施明細表'!C$27 -> 0 | L13: =J13-K13 -> 0
A14: 8 | B14: 令和8年11月 | C14: ='別紙3（11月・食堂）事業実施明細表'!C$8 -> 0 | D14: ='別紙3（11月・食堂）事業実施明細表'!D$12 -> 0 | E14: ='別紙3（11月・食堂）事業実施明細表'!F$12 -> 0 | F14: ='別紙3（11月・食堂）事業実施明細表'!I$12 -> 0 | J14: =SUM(G14:I14) -> 0 | K14: ='別紙3（11月・食堂）事業実施明細表'!C$27 -> 0 | L14: =J14-K14 -> 0
A15: 9 | B15: 令和8年12月 | C15: ='別紙3（12月・食堂）事業実施明細表'!C$8 -> 0 | D15: ='別紙3（12月・食堂）事業実施明細表'!D$12 -> 0 | E15: ='別紙3（12月・食堂）事業実施明細表'!F$12 -> 0 | F15: ='別紙3（12月・食堂）事業実施明細表'!I$12 -> 0 | J15: =SUM(G15:I15) -> 0 | K15: ='別紙3（12月・食堂）事業実施明細表'!C$27 -> 0 | L15: =J15-K15 -> 0
A16: 10 | B16: 令和9年1月 | C16: ='別紙3（１月・食堂）事業実施明細表'!C$8 -> 0 | D16: ='別紙3（１月・食堂）事業実施明細表'!D$12 -> 0 | E16: ='別紙3（１月・食堂）事業実施明細表'!F$12 -> 0 | F16: ='別紙3（１月・食堂）事業実施明細表'!I$12 -> 0 | J16: =SUM(G16:I16) -> 0 | K16: ='別紙3（１月・食堂）事業実施明細表'!C$27 -> 0 | L16: =J16-K16 -> 0
A17: 11 | B17: 令和9年2月 | C17: ='別紙3（２月・食堂）事業実施明細表'!C$8 -> 0 | D17: ='別紙3（２月・食堂）事業実施明細表'!D$12 -> 0 | E17: ='別紙3（２月・食堂）事業実施明細表'!F$12 -> 0 | F17: ='別紙3（２月・食堂）事業実施明細表'!I$12 -> 0 | J17: =SUM(G17:I17) -> 0 | K17: ='別紙3（２月・食堂）事業実施明細表'!C$27 -> 0 | L17: =J17-K17 -> 0
A18: 12 | B18: 令和9年3月 | C18: ='別紙3（３月・食堂）事業実施明細表'!C$8 -> 0 | D18: ='別紙3（３月・食堂）事業実施明細表'!D$12 -> 0 | E18: ='別紙3（３月・食堂）事業実施明細表'!F$12 -> 0 | F18: ='別紙3（３月・食堂）事業実施明細表'!I$12 -> 0 | J18: =SUM(G18:I18) -> 0 | K18: ='別紙3（３月・食堂）事業実施明細表'!C$27 -> 0 | L18: =J18-K18 -> 0
A19: 計 | B19: - | C19: =SUM(C7:C18) -> 0 | D19: =SUM(D7:D18) -> 0 | E19: =SUM(E7:E18) -> 0 | F19: =SUM(F7:F18) -> 0 | G19: =SUM(G7:G18) -> 0 | H19: =SUM(H7:H18) -> 0 | I19: =SUM(I7:I18) -> 0 | J19: =SUM(J7:J18) -> 0 | ... L19: =SUM(L7:L18) -> 0
A20: ※人件費及び子ども食堂実施団体の運営に要する経費については補助対象外
A23: (2) その他の収入（子ども食堂）
B24: 各回ごとに分けることができない収入（年間の取組に対する寄付金など）を記入。
B25: 収入日 | C25: 収入の内容 | H25: 収入額 | I25: 備考
A26: 1
A27: 2
A28: 3
A29: 4
A30: 5
A31: 計 | B31: - | C31: - | H31: =SUM(H26:H30) -> 0 | I31: -

Sheet 別紙2　収支精算書 (配食・宅食)
A1: （第5号様式 別紙2）収支精算書 | J1: 2/2
A4: (3) 配食・宅食の実施に係る経費
B5: 実施月 | C5: 開催回数 | D5: 参加人数 | E5: 配食・宅食の支出額 | I5: 収入額（D） | J5: 配食・宅食 実支出額 （C-D）
E6: 需用費 | F6: 使用料及び 賃借料 | G6: 役務費等 | H6: 支出額合計（C）
A7: 1 | B7: 令和8年4月 | C7: ='別紙3（4月・配食）事業実施明細表'!C$8 -> 0 | D7: ='別紙3（4月・配食）事業実施明細表'!C$11 -> 0 | F7: ='別紙3（4月・配食）事業実施明細表'!C$19 -> 0 | G7: ='別紙3（4月・配食）事業実施明細表'!C$20 -> 0 | H7: =SUM(E7:G7) -> 0 | I7: ='別紙3（4月・配食）事業実施明細表'!C$27 -> 0 | J7: =H7-I7 -> 0
A8: 2 | B8: 令和8年5月 | C8: ='別紙3（５月・配食）事業実施明細表'!C$8 -> 0 | D8: ='別紙3（５月・配食）事業実施明細表'!C$11 -> 0 | F8: ='別紙3（５月・配食）事業実施明細表'!C$19 -> 0 | G8: ='別紙3（５月・配食）事業実施明細表'!C$20 -> 0 | H8: =SUM(E8:G8) -> 0 | I8: ='別紙3（５月・配食）事業実施明細表'!C$27 -> 0 | J8: =H8-I8 -> 0
A9: 3 | B9: 令和8年6月 | C9: ='別紙3（６月・配食）事業実施明細表'!C$8 -> 0 | D9: ='別紙3（６月・配食）事業実施明細表'!C$11 -> 0 | F9: ='別紙3（６月・配食）事業実施明細表'!C$19 -> 0 | G9: ='別紙3（６月・配食）事業実施明細表'!C$20 -> 0 | H9: =SUM(E9:G9) -> 0 | I9: ='別紙3（６月・配食）事業実施明細表'!C$27 -> 0 | J9: =H9-I9 -> 0
A10: 4 | B10: 令和8年7月 | C10: ='別紙3（７月・配食）事業実施明細表'!C$8 -> 0 | D10: ='別紙3（７月・配食）事業実施明細表'!C$11 -> 0 | F10: ='別紙3（７月・配食）事業実施明細表'!C$19 -> 0 | G10: ='別紙3（７月・配食）事業実施明細表'!C$20 -> 0 | H10: =SUM(E10:G10) -> 0 | I10: ='別紙3（７月・配食）事業実施明細表'!C$27 -> 0 | J10: =H10-I10 -> 0
A11: 5 | B11: 令和8年8月 | C11: ='別紙3（８月・配食）事業実施明細表'!C$8 -> 0 | D11: ='別紙3（８月・配食）事業実施明細表'!C$11 -> 0 | F11: ='別紙3（８月・配食）事業実施明細表'!C$19 -> 0 | G11: ='別紙3（８月・配食）事業実施明細表'!C$20 -> 0 | H11: =SUM(E11:G11) -> 0 | I11: ='別紙3（８月・配食）事業実施明細表'!C$27 -> 0 | J11: =H11-I11 -> 0
A12: 6 | B12: 令和8年9月 | C12: ='別紙3（９月・配食）事業実施明細表'!C$8 -> 0 | D12: ='別紙3（９月・配食）事業実施明細表'!C$11 -> 0 | F12: ='別紙3（９月・配食）事業実施明細表'!C$19 -> 0 | G12: ='別紙3（９月・配食）事業実施明細表'!C$20 -> 0 | H12: =SUM(E12:G12) -> 0 | I12: ='別紙3（９月・配食）事業実施明細表'!C$27 -> 0 | J12: =H12-I12 -> 0
A13: 7 | B13: 令和8年10月 | C13: ='別紙3（10月・配食）事業実施明細表'!C$8 -> 0 | D13: ='別紙3（10月・配食）事業実施明細表'!C$11 -> 0 | F13: ='別紙3（10月・配食）事業実施明細表'!C$19 -> 0 | G13: ='別紙3（10月・配食）事業実施明細表'!C$20 -> 0 | H13: =SUM(E13:G13) -> 0 | I13: ='別紙3（10月・配食）事業実施明細表'!C$27 -> 0 | J13: =H13-I13 -> 0
A14: 8 | B14: 令和8年11月 | C14: ='別紙3（11月・配食）事業実施明細表'!C$8 -> 0 | D14: ='別紙3（11月・配食）事業実施明細表'!C$11 -> 0 | F14: ='別紙3（11月・配食）事業実施明細表'!C$19 -> 0 | G14: ='別紙3（11月・配食）事業実施明細表'!C$20 -> 0 | H14: =SUM(E14:G14) -> 0 | I14: ='別紙3（11月・配食）事業実施明細表'!C$27 -> 0 | J14: =H14-I14 -> 0
A15: 9 | B15: 令和8年12月 | C15: ='別紙3（12月・配食）事業実施明細表'!C$8 -> 0 | D15: ='別紙3（12月・配食）事業実施明細表'!C$11 -> 0 | F15: ='別紙3（12月・配食）事業実施明細表'!C$19 -> 0 | G15: ='別紙3（12月・配食）事業実施明細表'!C$20 -> 0 | H15: =SUM(E15:G15) -> 0 | I15: ='別紙3（12月・配食）事業実施明細表'!C$27 -> 0 | J15: =H15-I15 -> 0
A16: 10 | B16: 令和9年1月 | C16: ='別紙3（１月・配食）事業実施明細表'!C$8 -> 0 | D16: ='別紙3（１月・配食）事業実施明細表'!C$11 -> 0 | F16: ='別紙3（１月・配食）事業実施明細表'!C$19 -> 0 | G16: ='別紙3（１月・配食）事業実施明細表'!C$20 -> 0 | H16: =SUM(E16:G16) -> 0 | I16: ='別紙3（１月・配食）事業実施明細表'!C$27 -> 0 | J16: =H16-I16 -> 0
A17: 11 | B17: 令和9年2月 | C17: ='別紙3（２月・配食）事業実施明細表'!C$8 -> 0 | D17: ='別紙3（２月・配食）事業実施明細表'!C$11 -> 0 | F17: ='別紙3（２月・配食）事業実施明細表'!C$19 -> 0 | G17: ='別紙3（２月・配食）事業実施明細表'!C$20 -> 0 | H17: =SUM(E17:G17) -> 0 | I17: ='別紙3（２月・配食）事業実施明細表'!C$27 -> 0 | J17: =H17-I17 -> 0
A18: 12 | B18: 令和9年3月 | C18: ='別紙3（３月・配食）事業実施明細表'!C$8 -> 0 | D18: ='別紙3（３月・配食）事業実施明細表'!C$11 -> 0 | F18: ='別紙3（３月・配食）事業実施明細表'!C$19 -> 0 | G18: ='別紙3（３月・配食）事業実施明細表'!C$20 -> 0 | H18: =SUM(E18:G18) -> 0 | I18: ='別紙3（３月・配食）事業実施明細表'!C$27 -> 0 | J18: =H18-I18 -> 0
A19: 計 | B19: - | C19: =SUM(C7:C18) -> 0 | D19: =SUM(D7:D18) -> 0 | E19: =SUM(E7:E18) -> 0 | F19: =SUM(F7:F18) -> 0 | G19: =SUM(G7:G18) -> 0 | H19: =SUM(E19:G19) -> 0 | I19: =SUM(I7:I18) -> 0 | J19: =SUM(J7:J18) -> 0
A20: ※人件費及び配食・宅食実施団体の運営に要する経費については補助対象外
A22: (4) その他の収入（配食・宅食）
B23: 各回ごとに分けることができない収入（年間の取組に対する寄付金など）を記入。
B24: 収入日 | C24: 収入の内容 | E24: 収入額 | F24: 備考
A25: 1
A26: 2
A27: 3
A28: 4
A29: 5
A30: 計 | B30: - | C30: - | E30: =SUM(E25:E29) -> 0 | F30: -
A32: (5) 実績報告額
A33: 補助対象経費の 実支出額（E） | F33: 基準額（Ｆ） | G33: 選定額(Ｇ)【(Ｅ)と(Ｆ)を比較して少ない方の額】 | H33: 実績報告額(Ｈ)【(Ｇ)×補助率】 | I33: 交付決定額(Ｉ) (補助金受領済額) | J33: 精算額（返還額）（J） 【（I）-（H）】
A34: 食堂 | C34: 月間開催回数 | D34: 月数 | E34: ='別紙2 収支精算書（食堂）'!L19-'別紙2 収支精算書（食堂）'!H31 -> 0 | F34: =ROUNDDOWN(530000*D35/12,0)+ROUNDDOWN(1060000*D36/12,0)+ROUNDDOWN(1590000*D37/12,0) -> 0 | G34: =IF(E34<F34,E34,F34) -> 0 | H34: =G34*M35 -> 0
C35: １回/月 | D35: ='別紙1 事業報告書'!R8 -> 0 | L35: 計算用補助率 | M35: 1
C36: ２回/月 | D36: ='別紙1 事業報告書'!R9 -> 0
C37: ３回以上/月 | D37: ='別紙1 事業報告書'!R10 -> 0
A38: 配食・宅食 | B38: =$J$19-$E$30 -> 0 | F38: 800000 | G38: =IF(B38<F38,B38,F38) -> 0 | H38: =G38*M38 -> 0 | L38: 計算用補助率 | M38: 1
A39: 合計 | H39: =SUM(H34:H38) -> 0 | I39: =SUM(I35:I38) -> 0 | J39: =IF(I39<H39,0,I39-H39) -> 0

Sheet 別紙2　収支精算書 （立上げ支援)
A1: （第5号様式 別紙2）収支精算書
A3: (6) 子ども食堂の立上げ・支援の拡充に係る経費
A4: 主な支出の内容 | C4: 支出額 | G4: 収入額（Ｊ） | H4: 実支出額 （Ｉ-Ｊ）
C5: 委託費 | D5: 備品購入費 | E5: 支出額合計（Ｉ）
E6: =SUM(B6:D6) -> 0 | H6: =E6-G6 -> 0
E7: =SUM(C7:D7) -> 0 | H7: =E7-G7 -> 0
E8: =SUM(C8:D8) -> 0 | H8: =E8-G8 -> 0
E9: =SUM(C9:D9) -> 0 | H9: =E9-G9 -> 0
E10: =SUM(C10:D10) -> 0 | H10: =E10-G10 -> 0
A12: (7) 実績報告額(子ども食堂立上げ・支援の拡充）
A13: 補助対象経費の実支出額（Ｋ） | D13: 基準額（Ｌ） | E13: 選定額(Ｍ)【(Ｋ)と(Ｌ)を比較して少ない方の額】 | F13: 実績報告額(Ｎ)【(Ｍ)×補助率】 | G13: 交付決定額(Ｏ) (補助金受領済額) | H13: 精算額（返還額）（Ｐ） 【（Ｏ）-（Ｎ）】
A14: =SUM(H6:H10) -> 0 | D14: 500000 | E14: =MIN(A14:D14) -> 0 | F14: =E14*$K$14 -> 0 | H14: =G14-F14 -> 0 | J14: 計算用補助率 | K14: 1

Sheet 別紙3（４月・食堂）事業実施明細表
B1: （第5号様式 別紙3）
B2: 事業実施明細表
A3: （１）実施概要
A4: 食堂名 | C4: ='別紙1 事業報告書'!I4 -> 0
A5: 開催月 | C5: 4月
A6: 開催日（すべて記入）
A7: 開催内容 | C7: 子ども食堂
A8: 開催回数（回）
A10: 実施場所
A11: 「食堂」参加人数（人） | C11: =D12+F12+I12 -> 0
A12: （内訳） | C12: 0～17歳の子ども （人） | E12: 子どもの保護者（人） | G12: その他 （人）
A13: 参加スタッフ人数
A14: 提供内容
A16: （２）月ごとの収支明細
A17: 【支出】
B18: 費目 | C18: 金額 | G18: 主な内容
A19: 1 | B19: 需用費 | F19: 円
A20: 2 | B20: 使用料及び賃借料 | F20: 円 | H20: 円
A21: 3 | B21: 役務費等 | F21: 円 | H21: 円
B22: 計 | C22: =SUM(C19:C21) -> 0 | F22: 円
A23: 【収入】
B24: 費目 | C24: 金額 | G24: 主な内容
A25: 1 | B25: 利用料 | F25: 円
A26: 2 | B26: その他収入 | F26: 円 | H26: 円
B27: 計 | C27: =SUM(C25:C26) -> 0 | F27: 円
B29: 領収書等貼付台紙（開催月ごとに提出）
A31: 食堂名
A32: 開催日
B34: 【領収書・写真等貼付欄】
B44: 【備考欄】 ※按分等により経費を計上している場合等については計算方法を記載

Sheet 別紙3（５月・食堂）事業実施明細表
B1: （第5号様式 別紙3）
B2: 事業実施明細表
A3: （１）実施概要
A4: 食堂名 | C4: ='別紙1 事業報告書'!I4 -> 0
A5: 開催月 | C5: 5月
A6: 開催日（すべて記入）
A7: 開催内容 | C7: 子ども食堂
A8: 開催回数（回）
A10: 実施場所
A11: 「食堂」参加人数（人） | C11: =D12+F12+I12 -> 0
A12: （内訳） | C12: 0～17歳の子ども （人） | E12: 子どもの保護者（人） | G12: その他 （人）
A13: 参加スタッフ人数
A14: 提供内容
A16: （２）月ごとの収支明細
A17: 【支出】
B18: 費目 | C18: 金額 | G18: 主な内容
A19: 1 | B19: 需用費 | F19: 円
A20: 2 | B20: 使用料及び賃借料 | F20: 円 | H20: 円
A21: 3 | B21: 役務費等 | F21: 円 | H21: 円
B22: 計 | C22: =SUM(C19:C21) -> 0 | F22: 円
A23: 【収入】
B24: 費目 | C24: 金額 | G24: 主な内容
A25: 1 | B25: 利用料 | F25: 円
A26: 2 | B26: その他収入 | F26: 円 | H26: 円
B27: 計 | C27: =SUM(C25:C26) -> 0 | F27: 円
B29: 領収書等貼付台紙（開催月ごとに提出）
A31: 食堂名
A32: 開催日
B34: 【領収書・写真等貼付欄】
B44: 【備考欄】 ※按分等により経費を計上している場合等については計算方法を記載

Sheet 別紙3（６月・食堂）事業実施明細表
B1: （第5号様式 別紙3）
B2: 事業実施明細表
A3: （１）実施概要
A4: 食堂名 | C4: ='別紙1 事業報告書'!I4 -> 0
A5: 開催月 | C5: 6月
A6: 開催日（すべて記入）
A7: 開催内容 | C7: 子ども食堂
A8: 開催回数（回）
A10: 実施場所
A11: 「食堂」参加人数（人） | C11: =D12+F12+I12 -> 0
A12: （内訳） | C12: 0～17歳の子ども （人） | E12: 子どもの保護者（人） | G12: その他 （人）
A13: 参加スタッフ人数
A14: 提供内容
A16: （２）月ごとの収支明細
A17: 【支出】
B18: 費目 | C18: 金額 | G18: 主な内容
A19: 1 | B19: 需用費 | F19: 円
A20: 2 | B20: 使用料及び賃借料 | F20: 円 | H20: 円
A21: 3 | B21: 役務費等 | F21: 円 | H21: 円
B22: 計 | C22: =SUM(C19:C21) -> 0 | F22: 円
A23: 【収入】
B24: 費目 | C24: 金額 | G24: 主な内容
A25: 1 | B25: 利用料 | F25: 円
A26: 2 | B26: その他収入 | F26: 円 | H26: 円
B27: 計 | C27: =SUM(C25:C26) -> 0 | F27: 円
B29: 領収書等貼付台紙（開催月ごとに提出）
A31: 食堂名
A32: 開催日
B34: 【領収書・写真等貼付欄】
B44: 【備考欄】 ※按分等により経費を計上している場合等については計算方法を記載

Sheet 別紙３（７月・食堂）事業実施明細表
B1: （第5号様式 別紙3）
B2: 事業実施明細表
A3: （１）実施概要
A4: 食堂名 | C4: ='別紙1 事業報告書'!I4 -> 0
A5: 開催月 | C5: 7月
A6: 開催日（すべて記入）
A7: 開催内容 | C7: 子ども食堂
A8: 開催回数（回）
A10: 実施場所
A11: 「食堂」参加人数（人） | C11: =D12+F12+I12 -> 0
A12: （内訳） | C12: 0～17歳の子ども （人） | E12: 子どもの保護者（人） | G12: その他 （人）
A13: 参加スタッフ人数
A14: 提供内容
A16: （２）月ごとの収支明細
A17: 【支出】
B18: 費目 | C18: 金額 | G18: 主な内容
A19: 1 | B19: 需用費 | F19: 円
A20: 2 | B20: 使用料及び賃借料 | F20: 円 | H20: 円
A21: 3 | B21: 役務費等 | F21: 円 | H21: 円
B22: 計 | C22: =SUM(C19:C21) -> 0 | F22: 円
A23: 【収入】
B24: 費目 | C24: 金額 | G24: 主な内容
A25: 1 | B25: 利用料 | F25: 円
A26: 2 | B26: その他収入 | F26: 円 | H26: 円
B27: 計 | C27: =SUM(C25:C26) -> 0 | F27: 円
B29: 領収書等貼付台紙（開催月ごとに提出）
A31: 食堂名
A32: 開催日
B34: 【領収書・写真等貼付欄】
B44: 【備考欄】 ※按分等により経費を計上している場合等については計算方法を記載

Sheet 別紙3（８月・食堂）事業実施明細表
B1: （第5号様式 別紙3）
B2: 事業実施明細表
A3: （１）実施概要
A4: 食堂名 | C4: ='別紙1 事業報告書'!I4 -> 0
A5: 開催月 | C5: 8月
A6: 開催日（すべて記入）
A7: 開催内容 | C7: 子ども食堂
A8: 開催回数（回）
A10: 実施場所
A11: 「食堂」参加人数（人） | C11: =D12+F12+I12 -> 0
A12: （内訳） | C12: 0～17歳の子ども （人） | E12: 子どもの保護者（人） | G12: その他 （人）
A13: 参加スタッフ人数
A14: 提供内容
A16: （２）月ごとの収支明細
A17: 【支出】
B18: 費目 | C18: 金額 | G18: 主な内容
A19: 1 | B19: 需用費 | F19: 円
A20: 2 | B20: 使用料及び賃借料 | F20: 円 | H20: 円
A21: 3 | B21: 役務費等 | F21: 円 | H21: 円
B22: 計 | C22: =SUM(C19:C21) -> 0 | F22: 円
A23: 【収入】
B24: 費目 | C24: 金額 | G24: 主な内容
A25: 1 | B25: 利用料 | F25: 円
A26: 2 | B26: その他収入 | F26: 円 | H26: 円
B27: 計 | C27: =SUM(C25:C26) -> 0 | F27: 円
B29: 領収書等貼付台紙（開催月ごとに提出）
A31: 食堂名
A32: 開催日
B34: 【領収書・写真等貼付欄】
B44: 【備考欄】 ※按分等により経費を計上している場合等については計算方法を記載

Sheet 別紙3（９月・食堂）事業実施明細表
B1: （第5号様式 別紙3）
B2: 事業実施明細表
A3: （１）実施概要
A4: 食堂名 | C4: ='別紙1 事業報告書'!I4 -> 0
A5: 開催月 | C5: 9月
A6: 開催日（すべて記入）
A7: 開催内容 | C7: 子ども食堂
A8: 開催回数（回）
A10: 実施場所
A11: 「食堂」参加人数（人） | C11: =D12+F12+I12 -> 0
A12: （内訳） | C12: 0～17歳の子ども （人） | E12: 子どもの保護者（人） | G12: その他 （人）
A13: 参加スタッフ人数
A14: 提供内容
A16: （２）月ごとの収支明細
A17: 【支出】
B18: 費目 | C18: 金額 | G18: 主な内容
A19: 1 | B19: 需用費 | F19: 円
A20: 2 | B20: 使用料及び賃借料 | F20: 円 | H20: 円
A21: 3 | B21: 役務費等 | F21: 円 | H21: 円
B22: 計 | C22: =SUM(C19:C21) -> 0 | F22: 円
A23: 【収入】
B24: 費目 | C24: 金額 | G24: 主な内容
A25: 1 | B25: 利用料 | F25: 円
A26: 2 | B26: その他収入 | F26: 円 | H26: 円
B27: 計 | C27: =SUM(C25:C26) -> 0 | F27: 円
B29: 領収書等貼付台紙（開催月ごとに提出）
A31: 食堂名
A32: 開催日
B34: 【領収書・写真等貼付欄】
B44: 【備考欄】 ※按分等により経費を計上している場合等については計算方法を記載

Sheet 別紙３（10月・食堂）事業実施明細表
B1: （第5号様式 別紙3）
B2: 事業実施明細表
A3: （１）実施概要
A4: 食堂名 | C4: ='別紙1 事業報告書'!I4 -> 0
A5: 開催月 | C5: 10月
A6: 開催日（すべて記入）
A7: 開催内容 | C7: 子ども食堂
A8: 開催回数（回）
A10: 実施場所
A11: 「食堂」参加人数（人） | C11: =D12+F12+I12 -> 0
A12: （内訳） | C12: 0～17歳の子ども （人） | E12: 子どもの保護者（人） | G12: その他 （人）
A13: 参加スタッフ人数
A14: 提供内容
A16: （２）月ごとの収支明細
A17: 【支出】
B18: 費目 | C18: 金額 | G18: 主な内容
A19: 1 | B19: 需用費 | F19: 円
A20: 2 | B20: 使用料及び賃借料 | F20: 円 | H20: 円
A21: 3 | B21: 役務費等 | F21: 円 | H21: 円
B22: 計 | C22: =SUM(C19:C21) -> 0 | F22: 円
A23: 【収入】
B24: 費目 | C24: 金額 | G24: 主な内容
A25: 1 | B25: 利用料 | F25: 円
A26: 2 | B26: その他収入 | F26: 円 | H26: 円
B27: 計 | C27: =SUM(C25:C26) -> 0 | F27: 円
B29: 領収書等貼付台紙（開催月ごとに提出）
A31: 食堂名
A32: 開催日
B34: 【領収書・写真等貼付欄】
B44: 【備考欄】 ※按分等により経費を計上している場合等については計算方法を記載

Sheet 別紙3（11月・食堂）事業実施明細表
B1: （第5号様式 別紙3）
B2: 事業実施明細表
A3: （１）実施概要
A4: 食堂名 | C4: ='別紙1 事業報告書'!I4 -> 0
A5: 開催月 | C5: 11月
A6: 開催日（すべて記入）
A7: 開催内容 | C7: 子ども食堂
A8: 開催回数（回）
A10: 実施場所
A11: 「食堂」参加人数（人） | C11: =D12+F12+I12 -> 0
A12: （内訳） | C12: 0～17歳の子ども （人） | E12: 子どもの保護者（人） | G12: その他 （人）
A13: 参加スタッフ人数
A14: 提供内容
A16: （２）月ごとの収支明細
A17: 【支出】
B18: 費目 | C18: 金額 | G18: 主な内容
A19: 1 | B19: 需用費 | F19: 円
A20: 2 | B20: 使用料及び賃借料 | F20: 円 | H20: 円
A21: 3 | B21: 役務費等 | F21: 円 | H21: 円
B22: 計 | C22: =SUM(C19:C21) -> 0 | F22: 円
A23: 【収入】
B24: 費目 | C24: 金額 | G24: 主な内容
A25: 1 | B25: 利用料 | F25: 円
A26: 2 | B26: その他収入 | F26: 円 | H26: 円
B27: 計 | C27: =SUM(C25:C26) -> 0 | F27: 円
B29: 領収書等貼付台紙（開催月ごとに提出）
A31: 食堂名
A32: 開催日
B34: 【領収書・写真等貼付欄】
B44: 【備考欄】 ※按分等により経費を計上している場合等については計算方法を記載

Sheet 別紙3（12月・食堂）事業実施明細表
B1: （第5号様式 別紙3）
B2: 事業実施明細表
A3: （１）実施概要
A4: 食堂名 | C4: ='別紙1 事業報告書'!I4 -> 0
A5: 開催月 | C5: 12月
A6: 開催日（すべて記入）
A7: 開催内容 | C7: 子ども食堂
A8: 開催回数（回）
A10: 実施場所
A11: 「食堂」参加人数（人） | C11: =D12+F12+I12 -> 0
A12: （内訳） | C12: 0～17歳の子ども （人） | E12: 子どもの保護者（人） | G12: その他 （人）
A13: 参加スタッフ人数
A14: 提供内容
A16: （２）月ごとの収支明細
A17: 【支出】
B18: 費目 | C18: 金額 | G18: 主な内容
A19: 1 | B19: 需用費 | F19: 円
A20: 2 | B20: 使用料及び賃借料 | F20: 円 | H20: 円
A21: 3 | B21: 役務費等 | F21: 円 | H21: 円
B22: 計 | C22: =SUM(C19:C21) -> 0 | F22: 円
A23: 【収入】
B24: 費目 | C24: 金額 | G24: 主な内容
A25: 1 | B25: 利用料 | F25: 円
A26: 2 | B26: その他収入 | F26: 円 | H26: 円
B27: 計 | C27: =SUM(C25:C26) -> 0 | F27: 円
B29: 領収書等貼付台紙（開催月ごとに提出）
A31: 食堂名
A32: 開催日
B34: 【領収書・写真等貼付欄】
B44: 【備考欄】 ※按分等により経費を計上している場合等については計算方法を記載

Sheet 別紙3（１月・食堂）事業実施明細表
B1: （第5号様式 別紙3）
B2: 事業実施明細表
A3: （１）実施概要
A4: 食堂名 | C4: ='別紙1 事業報告書'!I4 -> 0
A5: 開催月 | C5: 1月
A6: 開催日（すべて記入）
A7: 開催内容 | C7: 子ども食堂
A8: 開催回数（回）
A10: 実施場所
A11: 「食堂」参加人数（人） | C11: =D12+F12+I12 -> 0
A12: （内訳） | C12: 0～17歳の子ども （人） | E12: 子どもの保護者（人） | G12: その他 （人）
A13: 参加スタッフ人数
A14: 提供内容
A16: （２）月ごとの収支明細
A17: 【支出】
B18: 費目 | C18: 金額 | G18: 主な内容
A19: 1 | B19: 需用費 | F19: 円
A20: 2 | B20: 使用料及び賃借料 | F20: 円 | H20: 円
A21: 3 | B21: 役務費等 | F21: 円 | H21: 円
B22: 計 | C22: =SUM(C19:C21) -> 0 | F22: 円
A23: 【収入】
B24: 費目 | C24: 金額 | G24: 主な内容
A25: 1 | B25: 利用料 | F25: 円
A26: 2 | B26: その他収入 | F26: 円 | H26: 円
B27: 計 | C27: =SUM(C25:C26) -> 0 | F27: 円
B29: 領収書等貼付台紙（開催月ごとに提出）
A31: 食堂名
A32: 開催日
B34: 【領収書・写真等貼付欄】
B44: 【備考欄】 ※按分等により経費を計上している場合等については計算方法を記載

Sheet 別紙3（２月・食堂）事業実施明細表
B1: （第5号様式 別紙3）
B2: 事業実施明細表
A3: （１）実施概要
A4: 食堂名 | C4: ='別紙1 事業報告書'!I4 -> 0
A5: 開催月 | C5: 2月
A6: 開催日（すべて記入）
A7: 開催内容 | C7: 子ども食堂
A8: 開催回数（回）
A10: 実施場所
A11: 「食堂」参加人数（人） | C11: =D12+F12+I12 -> 0
A12: （内訳） | C12: 0～17歳の子ども （人） | E12: 子どもの保護者（人） | G12: その他 （人）
A13: 参加スタッフ人数
A14: 提供内容
A16: （２）月ごとの収支明細
A17: 【支出】
B18: 費目 | C18: 金額 | G18: 主な内容
A19: 1 | B19: 需用費 | F19: 円
A20: 2 | B20: 使用料及び賃借料 | F20: 円 | H20: 円
A21: 3 | B21: 役務費等 | F21: 円 | H21: 円
B22: 計 | C22: =SUM(C19:C21) -> 0 | F22: 円
A23: 【収入】
B24: 費目 | C24: 金額 | G24: 主な内容
A25: 1 | B25: 利用料 | F25: 円
A26: 2 | B26: その他収入 | F26: 円 | H26: 円
B27: 計 | C27: =SUM(C25:C26) -> 0 | F27: 円
B29: 領収書等貼付台紙（開催月ごとに提出）
A31: 食堂名
A32: 開催日
B34: 【領収書・写真等貼付欄】
B44: 【備考欄】 ※按分等により経費を計上している場合等については計算方法を記載

Sheet 別紙3（３月・食堂）事業実施明細表
B1: （第5号様式 別紙3）
B2: 事業実施明細表
A3: （１）実施概要
A4: 食堂名 | C4: ='別紙1 事業報告書'!I4 -> 0
A5: 開催月 | C5: 3月
A6: 開催日（すべて記入）
A7: 開催内容 | C7: 子ども食堂
A8: 開催回数（回）
A10: 実施場所
A11: 「食堂」参加人数（人） | C11: =D12+F12+I12 -> 0
A12: （内訳） | C12: 0～17歳の子ども （人） | E12: 子どもの保護者（人） | G12: その他 （人）
A13: 参加スタッフ人数
A14: 提供内容
A16: （２）月ごとの収支明細
A17: 【支出】
B18: 費目 | C18: 金額 | G18: 主な内容
A19: 1 | B19: 需用費 | F19: 円
A20: 2 | B20: 使用料及び賃借料 | F20: 円 | H20: 円
A21: 3 | B21: 役務費等 | F21: 円 | H21: 円
B22: 計 | C22: =SUM(C19:C21) -> 0 | F22: 円
A23: 【収入】
B24: 費目 | C24: 金額 | G24: 主な内容
A25: 1 | B25: 利用料 | F25: 円
A26: 2 | B26: その他収入 | F26: 円 | H26: 円
B27: 計 | C27: =SUM(C25:C26) -> 0 | F27: 円
B29: 領収書等貼付台紙（開催月ごとに提出）
A31: 食堂名
A32: 開催日
B34: 【領収書・写真等貼付欄】
B44: 【備考欄】 ※按分等により経費を計上している場合等については計算方法を記載

Sheet 別紙3（4月・配食）事業実施明細表
B1: （第5号様式 別紙3）
B2: 事業実施明細表
A3: （１）実施概要
A4: 食堂名 | C4: ='別紙1 事業報告書'!I4 -> 0
A5: 開催月 | C5: 4月
A6: 開催日（すべて記入）
A7: 開催内容 | C7: 配食/宅食
A8: 開催回数
A10: 実施場所
A11: 利用者数
A12: 参加スタッフ人数
A13: 提供内容
A15: （２）月ごとの収支明細
A16: 【支出】
B17: 費目 | C17: 金額 | G17: 主な内容
A18: 1 | B18: 需用費 | F18: 円
A19: 2 | B19: 使用料及び賃借料 | F19: 円 | H19: 円
A20: 3 | B20: 役務費等 | F20: 円 | H20: 円
B21: 計 | C21: =SUM(C13:C15) -> 0 | F21: 円
A22: 【収入】
B23: 費目 | C23: 金額 | G23: 主な内容
A24: 1 | B24: 利用料 | F24: 円
A25: 2 | B25: その他収入 | F25: 円 | H25: 円
B26: 計 | C26: =SUM(C24:C25) -> 0 | F26: 円
B28: 領収書等貼付台紙（開催月ごとに提出）
A30: 食堂名
A31: 開催日
B33: 【領収書・写真等貼付欄】
B43: 【備考欄】 ※按分等により経費を計上している場合等については計算方法を記載

Sheet 別紙3（５月・配食）事業実施明細表
B1: （第5号様式 別紙3）
B2: 事業実施明細表
A3: （１）実施概要
A4: 食堂名 | C4: ='別紙1 事業報告書'!I4 -> 0
A5: 開催月 | C5: 5月
A6: 開催日（すべて記入）
A7: 開催内容 | C7: 配食/宅食
A8: 開催回数
A10: 実施場所
A11: 利用者数
A12: 参加スタッフ人数
A13: 提供内容
A15: （２）月ごとの収支明細
A16: 【支出】
B17: 費目 | C17: 金額 | G17: 主な内容
A18: 1 | B18: 需用費 | F18: 円
A19: 2 | B19: 使用料及び賃借料 | F19: 円 | H19: 円
A20: 3 | B20: 役務費等 | F20: 円 | H20: 円
B21: 計 | C21: =SUM(C13:C15) -> 0 | F21: 円
A22: 【収入】
B23: 費目 | C23: 金額 | G23: 主な内容
A24: 1 | B24: 利用料 | F24: 円
A25: 2 | B25: その他収入 | F25: 円 | H25: 円
B26: 計 | C26: =SUM(C24:C25) -> 0 | F26: 円
B28: 領収書等貼付台紙（開催月ごとに提出）
A30: 食堂名
A31: 開催日
B33: 【領収書・写真等貼付欄】
B43: 【備考欄】 ※按分等により経費を計上している場合等については計算方法を記載

Sheet 別紙3（６月・配食）事業実施明細表
B1: （第5号様式 別紙3）
B2: 事業実施明細表
A3: （１）実施概要
A4: 食堂名 | C4: ='別紙1 事業報告書'!I4 -> 0
A5: 開催月 | C5: 6月
A6: 開催日（すべて記入）
A7: 開催内容 | C7: 配食/宅食
A8: 開催回数
A10: 実施場所
A11: 利用者数
A12: 参加スタッフ人数
A13: 提供内容
A15: （２）月ごとの収支明細
A16: 【支出】
B17: 費目 | C17: 金額 | G17: 主な内容
A18: 1 | B18: 需用費 | F18: 円
A19: 2 | B19: 使用料及び賃借料 | F19: 円 | H19: 円
A20: 3 | B20: 役務費等 | F20: 円 | H20: 円
B21: 計 | C21: =SUM(C13:C15) -> 0 | F21: 円
A22: 【収入】
B23: 費目 | C23: 金額 | G23: 主な内容
A24: 1 | B24: 利用料 | F24: 円
A25: 2 | B25: その他収入 | F25: 円 | H25: 円
B26: 計 | C26: =SUM(C24:C25) -> 0 | F26: 円
B28: 領収書等貼付台紙（開催月ごとに提出）
A30: 食堂名
A31: 開催日
B33: 【領収書・写真等貼付欄】
B43: 【備考欄】 ※按分等により経費を計上している場合等については計算方法を記載

Sheet 別紙3（７月・配食）事業実施明細表
B1: （第5号様式 別紙3）
B2: 事業実施明細表
A3: （１）実施概要
A4: 食堂名 | C4: ='別紙1 事業報告書'!I4 -> 0
A5: 開催月 | C5: 7月
A6: 開催日（すべて記入）
A7: 開催内容 | C7: 配食/宅食
A8: 開催回数
A10: 実施場所
A11: 利用者数
A12: 参加スタッフ人数
A13: 提供内容
A15: （２）月ごとの収支明細
A16: 【支出】
B17: 費目 | C17: 金額 | G17: 主な内容
A18: 1 | B18: 需用費 | F18: 円
A19: 2 | B19: 使用料及び賃借料 | F19: 円 | H19: 円
A20: 3 | B20: 役務費等 | F20: 円 | H20: 円
B21: 計 | C21: =SUM(C13:C15) -> 0 | F21: 円
A22: 【収入】
B23: 費目 | C23: 金額 | G23: 主な内容
A24: 1 | B24: 利用料 | F24: 円
A25: 2 | B25: その他収入 | F25: 円 | H25: 円
B26: 計 | C26: =SUM(C24:C25) -> 0 | F26: 円
B28: 領収書等貼付台紙（開催月ごとに提出）
A30: 食堂名
A31: 開催日
B33: 【領収書・写真等貼付欄】
B43: 【備考欄】 ※按分等により経費を計上している場合等については計算方法を記載

Sheet 別紙3（８月・配食）事業実施明細表
B1: （第5号様式 別紙3）
B2: 事業実施明細表
A3: （１）実施概要
A4: 食堂名 | C4: ='別紙1 事業報告書'!I4 -> 0
A5: 開催月 | C5: 8月
A6: 開催日（すべて記入）
A7: 開催内容 | C7: 配食/宅食
A8: 開催回数
A10: 実施場所
A11: 利用者数
A12: 参加スタッフ人数
A13: 提供内容
A15: （２）月ごとの収支明細
A16: 【支出】
B17: 費目 | C17: 金額 | G17: 主な内容
A18: 1 | B18: 需用費 | F18: 円
A19: 2 | B19: 使用料及び賃借料 | F19: 円 | H19: 円
A20: 3 | B20: 役務費等 | F20: 円 | H20: 円
B21: 計 | C21: =SUM(C13:C15) -> 0 | F21: 円
A22: 【収入】
B23: 費目 | C23: 金額 | G23: 主な内容
A24: 1 | B24: 利用料 | F24: 円
A25: 2 | B25: その他収入 | F25: 円 | H25: 円
B26: 計 | C26: =SUM(C24:C25) -> 0 | F26: 円
B28: 領収書等貼付台紙（開催月ごとに提出）
A30: 食堂名
A31: 開催日
B33: 【領収書・写真等貼付欄】
B43: 【備考欄】 ※按分等により経費を計上している場合等については計算方法を記載

Sheet 別紙3（９月・配食）事業実施明細表
B1: （第5号様式 別紙3）
B2: 事業実施明細表
A3: （１）実施概要
A4: 食堂名 | C4: ='別紙1 事業報告書'!I4 -> 0
A5: 開催月 | C5: 9月
A6: 開催日（すべて記入）
A7: 開催内容 | C7: 配食/宅食
A8: 開催回数
A10: 実施場所
A11: 利用者数
A12: 参加スタッフ人数
A13: 提供内容
A15: （２）月ごとの収支明細
A16: 【支出】
B17: 費目 | C17: 金額 | G17: 主な内容
A18: 1 | B18: 需用費 | F18: 円
A19: 2 | B19: 使用料及び賃借料 | F19: 円 | H19: 円
A20: 3 | B20: 役務費等 | F20: 円 | H20: 円
B21: 計 | C21: =SUM(C13:C15) -> 0 | F21: 円
A22: 【収入】
B23: 費目 | C23: 金額 | G23: 主な内容
A24: 1 | B24: 利用料 | F24: 円
A25: 2 | B25: その他収入 | F25: 円 | H25: 円
B26: 計 | C26: =SUM(C24:C25) -> 0 | F26: 円
B28: 領収書等貼付台紙（開催月ごとに提出）
A30: 食堂名
A31: 開催日
B33: 【領収書・写真等貼付欄】
B43: 【備考欄】 ※按分等により経費を計上している場合等については計算方法を記載

Sheet 別紙3（10月・配食）事業実施明細表
B1: （第5号様式 別紙3）
B2: 事業実施明細表
A3: （１）実施概要
A4: 食堂名 | C4: ='別紙1 事業報告書'!I4 -> 0
A5: 開催月 | C5: 10月
A6: 開催日（すべて記入）
A7: 開催内容 | C7: 配食/宅食
A8: 開催回数
A10: 実施場所
A11: 利用者数
A12: 参加スタッフ人数
A13: 提供内容
A15: （２）月ごとの収支明細
A16: 【支出】
B17: 費目 | C17: 金額 | G17: 主な内容
A18: 1 | B18: 需用費 | F18: 円
A19: 2 | B19: 使用料及び賃借料 | F19: 円 | H19: 円
A20: 3 | B20: 役務費等 | F20: 円 | H20: 円
B21: 計 | C21: =SUM(C13:C15) -> 0 | F21: 円
A22: 【収入】
B23: 費目 | C23: 金額 | G23: 主な内容
A24: 1 | B24: 利用料 | F24: 円
A25: 2 | B25: その他収入 | F25: 円 | H25: 円
B26: 計 | C26: =SUM(C24:C25) -> 0 | F26: 円
B28: 領収書等貼付台紙（開催月ごとに提出）
A30: 食堂名
A31: 開催日
B33: 【領収書・写真等貼付欄】
B43: 【備考欄】 ※按分等により経費を計上している場合等については計算方法を記載

Sheet 別紙3（11月・配食）事業実施明細表
B1: （第5号様式 別紙3）
B2: 事業実施明細表
A3: （１）実施概要
A4: 食堂名 | C4: ='別紙1 事業報告書'!I4 -> 0
A5: 開催月 | C5: 11月
A6: 開催日（すべて記入）
A7: 開催内容 | C7: 配食/宅食
A8: 開催回数
A10: 実施場所
A11: 利用者数
A12: 参加スタッフ人数
A13: 提供内容
A15: （２）月ごとの収支明細
A16: 【支出】
B17: 費目 | C17: 金額 | G17: 主な内容
A18: 1 | B18: 需用費 | F18: 円
A19: 2 | B19: 使用料及び賃借料 | F19: 円 | H19: 円
A20: 3 | B20: 役務費等 | F20: 円 | H20: 円
B21: 計 | C21: =SUM(C13:C15) -> 0 | F21: 円
A22: 【収入】
B23: 費目 | C23: 金額 | G23: 主な内容
A24: 1 | B24: 利用料 | F24: 円
A25: 2 | B25: その他収入 | F25: 円 | H25: 円
B26: 計 | C26: =SUM(C24:C25) -> 0 | F26: 円
B28: 領収書等貼付台紙（開催月ごとに提出）
A30: 食堂名
A31: 開催日
B33: 【領収書・写真等貼付欄】
B43: 【備考欄】 ※按分等により経費を計上している場合等については計算方法を記載

Sheet 別紙3（12月・配食）事業実施明細表
B1: （第5号様式 別紙3）
B2: 事業実施明細表
A3: （１）実施概要
A4: 食堂名 | C4: ='別紙1 事業報告書'!I4 -> 0
A5: 開催月 | C5: 12月
A6: 開催日（すべて記入）
A7: 開催内容 | C7: 配食/宅食
A8: 開催回数
A10: 実施場所
A11: 利用者数
A12: 参加スタッフ人数
A13: 提供内容
A15: （２）月ごとの収支明細
A16: 【支出】
B17: 費目 | C17: 金額 | G17: 主な内容
A18: 1 | B18: 需用費 | F18: 円
A19: 2 | B19: 使用料及び賃借料 | F19: 円 | H19: 円
A20: 3 | B20: 役務費等 | F20: 円 | H20: 円
B21: 計 | C21: =SUM(C13:C15) -> 0 | F21: 円
A22: 【収入】
B23: 費目 | C23: 金額 | G23: 主な内容
A24: 1 | B24: 利用料 | F24: 円
A25: 2 | B25: その他収入 | F25: 円 | H25: 円
B26: 計 | C26: =SUM(C24:C25) -> 0 | F26: 円
B28: 領収書等貼付台紙（開催月ごとに提出）
A30: 食堂名
A31: 開催日
B33: 【領収書・写真等貼付欄】
B43: 【備考欄】 ※按分等により経費を計上している場合等については計算方法を記載

Sheet 別紙3（１月・配食）事業実施明細表
B1: （第5号様式 別紙3）
B2: 事業実施明細表
A3: （１）実施概要
A4: 食堂名 | C4: ='別紙1 事業報告書'!I4 -> 0
A5: 開催月 | C5: 1月
A6: 開催日（すべて記入）
A7: 開催内容 | C7: 配食/宅食
A8: 開催回数
A10: 実施場所
A11: 利用者数
A12: 参加スタッフ人数
A13: 提供内容
A15: （２）月ごとの収支明細
A16: 【支出】
B17: 費目 | C17: 金額 | G17: 主な内容
A18: 1 | B18: 需用費 | F18: 円
A19: 2 | B19: 使用料及び賃借料 | F19: 円 | H19: 円
A20: 3 | B20: 役務費等 | F20: 円 | H20: 円
B21: 計 | C21: =SUM(C13:C15) -> 0 | F21: 円
A22: 【収入】
B23: 費目 | C23: 金額 | G23: 主な内容
A24: 1 | B24: 利用料 | F24: 円
A25: 2 | B25: その他収入 | F25: 円 | H25: 円
B26: 計 | C26: =SUM(C24:C25) -> 0 | F26: 円
B28: 領収書等貼付台紙（開催月ごとに提出）
A30: 食堂名
A31: 開催日
B33: 【領収書・写真等貼付欄】
B43: 【備考欄】 ※按分等により経費を計上している場合等については計算方法を記載

Sheet 別紙3（２月・配食）事業実施明細表
B1: （第5号様式 別紙3）
B2: 事業実施明細表
A3: （１）実施概要
A4: 食堂名 | C4: ='別紙1 事業報告書'!I4 -> 0
A5: 開催月 | C5: 2月
A6: 開催日（すべて記入）
A7: 開催内容 | C7: 配食/宅食
A8: 開催回数
A10: 実施場所
A11: 利用者数
A12: 参加スタッフ人数
A13: 提供内容
A15: （２）月ごとの収支明細
A16: 【支出】
B17: 費目 | C17: 金額 | G17: 主な内容
A18: 1 | B18: 需用費 | F18: 円
A19: 2 | B19: 使用料及び賃借料 | F19: 円 | H19: 円
A20: 3 | B20: 役務費等 | F20: 円 | H20: 円
B21: 計 | C21: =SUM(C13:C15) -> 0 | F21: 円
A22: 【収入】
B23: 費目 | C23: 金額 | G23: 主な内容
A24: 1 | B24: 利用料 | F24: 円
A25: 2 | B25: その他収入 | F25: 円 | H25: 円
B26: 計 | C26: =SUM(C24:C25) -> 0 | F26: 円
B28: 領収書等貼付台紙（開催月ごとに提出）
A30: 食堂名
A31: 開催日
B33: 【領収書・写真等貼付欄】
B43: 【備考欄】 ※按分等により経費を計上している場合等については計算方法を記載

Sheet 別紙3（３月・配食）事業実施明細表
B1: （第5号様式 別紙3）
B2: 事業実施明細表
A3: （１）実施概要
A4: 食堂名 | C4: ='別紙1 事業報告書'!I4 -> 0
A5: 開催月 | C5: 3月
A6: 開催日（すべて記入）
A7: 開催内容 | C7: 配食/宅食
A8: 開催回数
A10: 実施場所
A11: 利用者数
A12: 参加スタッフ人数
A13: 提供内容
A15: （２）月ごとの収支明細
A16: 【支出】
B17: 費目 | C17: 金額 | G17: 主な内容
A18: 1 | B18: 需用費 | F18: 円
A19: 2 | B19: 使用料及び賃借料 | F19: 円 | H19: 円
A20: 3 | B20: 役務費等 | F20: 円 | H20: 円
B21: 計 | C21: =SUM(C13:C15) -> 0 | F21: 円
A22: 【収入】
B23: 費目 | C23: 金額 | G23: 主な内容
A24: 1 | B24: 利用料 | F24: 円
A25: 2 | B25: その他収入 | F25: 円 | H25: 円
B26: 計 | C26: =SUM(C24:C25) -> 0 | F26: 円
B28: 領収書等貼付台紙（開催月ごとに提出）
A30: 食堂名
A31: 開催日
B33: 【領収書・写真等貼付欄】
B43: 【備考欄】 ※按分等により経費を計上している場合等については計算方法を記載

Sheet 別紙3　事業実施明細表・領収書等貼付台紙 (立上げ支援)
B1: （第5号様式 別紙3）
B2: 事業実施明細表
A3: （１）実施概要
A4: 食堂名
A5: 実施日
A6: 取組内容 | C6: 新たな子ども食堂の立上げ ・ 支援の拡充 （いずれかに〇）
A7: 実施場所
A8: 実施した内容
A10: （２）１回ごとの収支明細
A11: 【支出】
B12: 費目 | C12: 金額 | E12: 主な内容
A13: 1 | B13: 委託費 | D13: 円
A14: 2 | B14: 備品購入費 | D14: 円
B15: 計 | C15: =IF(SUM(C13:C14)=0,"",SUM(C13:C14)) | D15: 円
A16: 【収入】
B17: 費目 | C17: 金額 | E17: 主な内容
A18: 1 | B18: その他収入 | D18: 円
B19: 計 | C19: =IF(SUM(C18:C18)=0,"",SUM(C18:C18)) | D19: 円
B21: 領収書等貼付台紙
A23: 食堂名
A24: 開催日
B26: 【領収書・写真等貼付欄】
B36: 【備考欄】 ※按分等により経費を計上している場合等については計算方法を記載

Sheet 月2回以上開催する場合
A1: 実施月
A2: 実施場所
A3: 開催日 | B3: 1日 | C3: 2日 | D3: 3日 | E3: 4日 | F3: 5日
A4: 開催内容
A5: 提供内容（料理名） | G5: 1～5日 | H5: 1～5日
A6: 写真 | G6: 子ども食堂 | H6: 配食・宅食
A7: 参加人数 | B7: =SUM(B8:B10) -> 0 | C7: =SUM(C8:C10) -> 0 | D7: =SUM(D8:D10) -> 0 | E7: =SUM(E8:E10) -> 0 | F7: =SUM(F8:F10) -> 0 | G7: =SUMIFS(B7:F7,$B4:$F4,$G6) -> 0 | H7: =SUMIFS($B$7:$F$7,$B$4:$F$4,$H$6) -> 0
A8: 内訳（0～17歳の子ども） | G8: =SUMIFS(B8:F8,B4:F4,$G6) -> 0 | H8: =SUMIFS($B$8:$F$8,$B$4:$F$4,$H$6) -> 0
A9: 内訳（子どもの保護者 ） | G9: =SUMIFS(B9:F9,$B4:$F4,$G6) -> 0 | H9: =SUMIFS($B$9:$F$9,$B$4:$F$4,$H$6) -> 0
A10: 内訳（その他 ） | G10: =SUMIFS(B10:F10,$B4:$F4,$G6) -> 0 | H10: =SUMIFS($B$10:$F$10,$B$4:$F$4,$H$6) -> 0
A11: 参加スタッフ人数 | G11: =SUMIFS(B11:F11,$B4:$F4,$G6) -> 0 | H11: =SUMIFS($B$11:$F$11,$B$4:$F$4,$H$6) -> 0
A12: 開催日 | B12: 6日 | C12: 7日 | D12: 8日 | E12: 9日 | F12: 10日
A13: 開催内容
A14: 提供内容（料理名） | G14: 6～10日 | H14: 6～10日
A15: 写真 | G15: 子ども食堂 | H15: 配食・宅食
A16: 参加人数 | B16: =SUM(B17:B19) -> 0 | C16: =SUM(C17:C19) -> 0 | D16: =SUM(D17:D19) -> 0 | E16: =SUM(E17:E19) -> 0 | F16: =SUM(F17:F19) -> 0 | G16: =SUMIFS(B16:F16,$B13:$F13,$G15) -> 0 | H16: =SUMIFS($B$16:$F$16,$B$13:$F$13,$H$15) -> 0
A17: 内訳（0～17歳の子ども） | G17: =SUMIFS(B17:F17,B13:F13,$G15) -> 0 | H17: =SUMIFS($B$17:$F$17,$B$13:$F$13,$H$15) -> 0
A18: 内訳（子どもの保護者 ） | G18: =SUMIFS(B18:F18,$B13:$F13,$G15) -> 0 | H18: =SUMIFS($B$18:$F$18,$B$13:$F$13,$H$15) -> 0
A19: 内訳（その他 ） | G19: =SUMIFS(B19:F19,$B13:$F13,$G15) -> 0 | H19: =SUMIFS($B$19:$F$19,$B$13:$F$13,$H$15) -> 0
A20: 参加スタッフ人数 | G20: =SUMIFS(B20:F20,$B13:$F13,$G15) -> 0 | H20: =SUMIFS($B$20:$F$20,$B$13:$F$13,$H$15) -> 0
B21: 11日 | C21: 12日 | D21: 13日 | E21: 14日 | F21: 15日
A22: 開催内容
A23: 提供内容（料理名） | G23: 11～15日 | H23: 11～15日
A24: 写真 | G24: 子ども食堂 | H24: 配食・宅食
A25: 参加人数 | B25: =SUM(B26:B28) -> 0 | C25: =SUM(C26:C28) -> 0 | D25: =SUM(D26:D28) -> 0 | E25: =SUM(E26:E28) -> 0 | F25: =SUM(F26:F28) -> 0 | G25: =SUMIFS(B25:F25,$B22:$F22,$G24) -> 0 | H25: =SUMIFS($B$25:$F$25,$B$22:$F$22,$H$24) -> 0
A26: 内訳（0～17歳の子ども） | G26: =SUMIFS(B26:F26,B22:F22,$G24) -> 0 | H26: =SUMIFS($B$26:$F$26,$B$22:$F$22,$H$24) -> 0
A27: 内訳（子どもの保護者 ） | G27: =SUMIFS(B27:F27,$B22:$F22,$G24) -> 0 | H27: =SUMIFS($B$27:$F$27,$B$22:$F$22,$H$24) -> 0
A28: 内訳（その他 ） | G28: =SUMIFS(B28:F28,$B22:$F22,$G24) -> 0 | H28: =SUMIFS($B$28:$F$28,$B$22:$F$22,$H$24) -> 0
A29: 参加スタッフ人数 | G29: =SUMIFS(B29:F29,$B22:$F22,$G24) -> 0 | H29: =SUMIFS($B$29:$F$29,$B$22:$F$22,$H$24) -> 0
A30: 開催日 | B30: 16日 | C30: 17日 | D30: 18日 | E30: 19日 | F30: 20日
A31: 開催内容
A32: 提供内容（料理名） | G32: 16～20日 | H32: 16～20日
A33: 写真 | G33: 子ども食堂 | H33: 配食・宅食
A34: 参加人数 | B34: =SUM(B35:B37) -> 0 | C34: =SUM(C35:C37) -> 0 | D34: =SUM(D35:D37) -> 0 | E34: =SUM(E35:E37) -> 0 | F34: =SUM(F35:F37) -> 0 | G34: =SUMIFS(B34:F34,$B31:$F31,$G33) -> 0 | H34: =SUMIFS($B$34:$F$34,$B$31:$F$31,$H$33) -> 0
A35: 内訳（0～17歳の子ども） | G35: =SUMIFS(B35:F35,B31:F31,$G33) -> 0 | H35: =SUMIFS($B$35:$F$35,$B$31:$F$31,$H$33) -> 0
A36: 内訳（子どもの保護者 ） | G36: =SUMIFS(B36:F36,$B31:$F31,$G33) -> 0 | H36: =SUMIFS($B$36:$F$36,$B$31:$F$31,$H$33) -> 0
A37: 内訳（その他 ） | G37: =SUMIFS(B37:F37,$B31:$F31,$G33) -> 0 | H37: =SUMIFS($B$37:$F$37,$B$31:$F$31,$H$33) -> 0
A38: 参加スタッフ人数 | G38: =SUMIFS(B38:F38,$B31:$F31,$G33) -> 0 | H38: =SUMIFS($B$38:$F$38,$B$31:$F$31,$H$33) -> 0
A39: 開催日 | B39: 21日 | C39: 22日 | D39: 23日 | E39: 24日 | F39: 25日
A40: 開催内容
...
