Workbook
Name その２: #REF!
Name その２: #REF!
Name その２: #REF!
Name その２: #REF!
Name その２: #REF!
Name 区分①: #REF!
Name 区分①: #REF!
Name 区分①: #REF!
Name 区分①: #REF!
Name 区分①: #REF!
Name 区分①: #REF!
Name 区分②の１: #REF!
Name 区分②の１: #REF!
Name 区分②の１: #REF!
Name 区分②の１: #REF!
Name 区分②の１: #REF!
Name 区分②の１: #REF!
Name 区分②の２: #REF!
Name 区分②の２: #REF!
Name 区分②の２: #REF!
Name 区分②の２: #REF!
Name 区分②の２: #REF!
Name 区分②の２: #REF!
Name 区分②の３: #REF!
Name 区分②の３: #REF!
Name 区分②の３: #REF!
Name 区分②の３: #REF!
Name 区分②の３: #REF!
Name 区分②の３: #REF!
Name 区分③: #REF!
Name 区分③: #REF!
Name 区分③: #REF!
Name 区分③: #REF!
Name 区分③: #REF!
Name 区分③: #REF!
Name 区分③10分の10: #REF!,#REF!
Name 区分③10分の10: #REF!,#REF!
Name 区分③10分の10: #REF!,#REF!
Name 区分③10分の10: #REF!,#REF!
Name 区分③10分の10: #REF!,#REF!
Name 区分③10分の10: #REF!,#REF!
Name 区分④: #REF!
Name 区分④: #REF!
Name 区分④: #REF!
Name 区分④: #REF!
Name 区分④: #REF!
Name 区分④: #REF!
Name 区分⑤: #REF!
Name 区分⑤: #REF!
Name 区分⑤: #REF!
Name 区分⑤: #REF!
Name 区分⑤: #REF!
Name 区分⑤: #REF!
Name 区分⑥: #REF!
Name 区分⑥: #REF!
Name 区分⑥: #REF!
Name 区分⑥: #REF!
Name 区分⑥: #REF!
Name 区分⑥: #REF!
Name 分野①: #REF!

Sheet 別紙１_実施計画書
A1: （第1号様式 別紙1）
A2: 実施計画書
A3: （１）子ども食堂 実施計画書
A4: 1 | B4: 名称及び運営者 | F4: 子ども食堂名 | AD4: 届出 | AE4: 個人
F5: 運営団体名 | AD5: 指導 | AE5: 任意団体
F6: 団体種別 | M6: 代表者氏名 | AD6: 届出 | AE6: 個人
A7: 2 | B7: 事業開始年月日 | I7: 年 | K7: 月 | M7: 日 | N7: ※ 月により開催回数が 変わる場合、各開催回数ごとに月数を記すこと | P7: 月間開催回数 | R7: 月数 | AD7: 許可 | AE7: NPO
A8: 3 | B8: 年間実施予定回数 | M8: 回 | P8: 1 | AD8: その他 | AE8: 株式会社
A9: 4 | B9: 月間開催予定回数 | M9: 回 | P9: 2 | AE9: 社会福祉法人
A10: 5 | B10: 実施予定月数 | M10: 月 | P10: 3回以上/月 | AE10: 一般社団法人
A11: 6 | B11: 加入予定保険 | F11: 保険者 | AE11: 昭和
F12: 保険名称/内容 | AE12: 平成
A13: 7 | B13: 保健所に対する手続の内容 | F13: 所管保健所名 | P13: 手続の種別 | AD13: 〇 | AE13: 令和
F14: 手続内容
A15: 8 | B15: 1回あたりの定員 （標準的な定員を記入する） | H15: =SUM(Q15:R17) -> 0 | L15: 人 | M15: 内訳 | N15: 0～17歳の子ども | Q15: 0 | S15: 人
N16: 保護者 | S16: 人
N17: その他 | S17: 人
A18: 9 | B18: 年間利用者予定 （延べ人数） | H18: =SUM(Q18:R20) -> 0 | L18: 人 | M18: 内訳 | N18: 0～17歳の子ども | S18: 人
N19: 保護者 | S19: 人
N20: その他 | S20: 人
A22: (2) 配食・宅食 実施計画書
A23: 1 | B23: 事業開始年月日 | I23: 年 | K23: 月 | M23: 日
A24: 2 | B24: 年間利用者予定 （延べ人数） | H24: =SUM(Q24:R26) -> 0 | L24: 人 | M24: 内訳 | N24: 0～17歳の子ども | S24: 人
N25: 保護者 | S25: 人
N26: その他 | S26: 人
A27: 3 | B27: 月間開催予定回数 | M27: 回
A28: 4 | B28: 実施予定月数 | M28: 月
A30: ○ | B30: 実施に当たっての確認事項
A31: No | B31: 確認事項 | O31: 確認（プルダウンで選択）
A32: 1 | B32: 責任者の常時配置：事業実施時は常時、責任者を配置し安全に配慮して開催する。
A33: 2 | B33: スタッフ体制の確保：事業規模に応じた必要なスタッフ体制を確保する。
A34: 3 | B34: 食物アレルギーの確認・対応：参加する子供の食物アレルギーの有無を確認し、対応できない場合は周知・注意喚起する。
A35: 4 | B35: 衛生管理体制の構築：食品衛生法等に基づく適切な衛生管理体制を構築する。
A36: 5 | B36: 個人情報の適正な取扱い：守秘義務の周知徹底等、個人情報の厳格な取扱いについて対策を講じる。
A37: 6 | B37: 情報共有に係る事前同意：関係機関での情報共有について、原則、支援対象者から事前に同意を得る。
A38: 7 | B38: 政治的・宗教的中立／暴力団排除：特定の政党・政治団体・宗教のための活動を行わず、暴力団等を対象者としない。

Sheet 別紙1　実施計画書(立上げ支援)
A1: （第1号様式 別紙1）
A2: 実施計画書
A3: （3）新たな子ども食堂の立上げ・支援の拡充 実施計画書
A4: 実施内容等の 詳細 | D4: 実施スケジュール
D5: 実施場所
D6: 立上げ 支援の拡充 （当てはまるものに、〇をつけてください） | H6: 支援の拡充に〇をつけた場合は、拡充する内容を記載してください。
D7: 委託した作業や購入した備品の内容 （具体的に記入）
D8: その他特記事項
D9: 添付書類 | H9: □見積書 □設計図または配置図 □製品カタログなど購入品の内容がわかるもの □そのほか実施内容がわかる資料

Sheet 別紙２_明細書（食堂）
A1: （第1号様式 別紙2）交付申請額明細書 | L1: 0.5
I2: 団体名： | J2: =別紙１_実施計画書!I5 -> 0
A3: (1) 子ども食堂の開催に係る経費
B4: 開催予定月 | C4: 開催予定回数 | D4: 参加予定人数（月合計） | G4: 子ども食堂 支出額 | K4: 収入額（B） | L4: 子ども食堂 実支出額 （A-B）
D5: 0～17歳 の子ども | E5: 保護者 | F5: その他 | G5: 需用費 | H5: 使用料及 賃借料 | I5: 役務費等 | J5: 支出額合計（A）
A6: 1 | B6: 令和8年4月 | J6: =SUM(G6:I6) -> 0 | L6: =J6-K6 -> 0
A7: 2 | B7: 令和8年5月 | J7: =SUM(G7:I7) -> 0 | L7: =J7-K7 -> 0
A8: 3 | B8: 令和8年6月 | J8: =SUM(G8:I8) -> 0 | L8: =J8-K8 -> 0
A9: 4 | B9: 令和8年7月 | J9: =SUM(G9:I9) -> 0 | L9: =J9-K9 -> 0
A10: 5 | B10: 令和8年8月 | J10: =SUM(G10:I10) -> 0 | L10: =J10-K10 -> 0
A11: 6 | B11: 令和8年9月 | J11: =SUM(G11:I11) -> 0 | L11: =J11-K11 -> 0
A12: 7 | B12: 令和8年10月 | J12: =SUM(G12:I12) -> 0 | L12: =J12-K12 -> 0
A13: 8 | B13: 令和8年11月 | J13: =SUM(G13:I13) -> 0 | L13: =J13-K13 -> 0
A14: 9 | B14: 令和8年12月 | J14: =SUM(G14:I14) -> 0 | L14: =J14-K14 -> 0
A15: 10 | B15: 令和９年1月 | J15: =SUM(G15:I15) -> 0 | L15: =J15-K15 -> 0
A16: 11 | B16: 令和９年2月 | J16: =SUM(G16:I16) -> 0 | L16: =J16-K16 -> 0
A17: 12 | B17: 令和９年3月 | J17: =SUM(G17:I17) -> 0 | L17: =J17-K17 -> 0
A18: 計 | B18: - | C18: =SUM(C6:C17) -> 0 | D18: =SUM(D6:D17) -> 0 | E18: =SUM(E6:E17) -> 0 | F18: =SUM(F6:F17) -> 0 | G18: =SUM(G6:G17) -> 0 | H18: =SUM(H6:H17) -> 0 | I18: =SUM(I6:I17) -> 0 | J18: =SUM(G18:I18) -> 0 | K18: =SUM(K6:K17) -> 0 | L18: =SUM(L6:L17) -> 0
A19: ※人件費及び子ども食堂実施団体の運営に要する経費については補助対象外
A21: (2) その他の収入予定（子ども食堂）
B22: 各回ごとに分けることができない収入（年間の取組に対する寄付金など）を記入。
B23: 収入予定日 | C23: 収入の内容 | H23: 収入額 | I23: 備考
A24: 1
A25: 2
A26: 3
A27: 4
A28: 5
A29: 計 | B29: - | C29: - | H29: =SUM(H24:H28) -> 0 | I29: -

Sheet 別紙2_明細書 (配食・宅食)
A1: （第1号様式 別紙2）交付申請額明細書 | J1: 2/2
A4: (3) 配食・宅食の実施に係る経費
B5: 開催予定月 | C5: 開催予定回数 | D5: 参加予定人数（月合計） | E5: 配食・宅食 支出額 | I5: 収入額（D） | J5: 配食・宅食 実支出額 （C-D）
E6: 需用費 | F6: 使用料及 賃借料 | G6: 役務費等 | H6: 支出額合計（C）
A7: 1 | B7: 令和8年4月 | H7: =SUM(E7:G7) -> 0 | J7: =H7-I7 -> 0
A8: 2 | B8: 令和8年5月 | H8: =SUM(E8:G8) -> 0 | J8: =H8-I8 -> 0
A9: 3 | B9: 令和8年6月 | H9: =SUM(E9:G9) -> 0 | J9: =H9-I9 -> 0
A10: 4 | B10: 令和8年7月 | H10: =SUM(E10:G10) -> 0 | J10: =H10-I10 -> 0
A11: 5 | B11: 令和8年8月 | H11: =SUM(E11:G11) -> 0 | J11: =H11-I11 -> 0
A12: 6 | B12: 令和8年9月 | H12: =SUM(E12:G12) -> 0 | J12: =H12-I12 -> 0
A13: 7 | B13: 令和8年10月 | H13: =SUM(E13:G13) -> 0 | J13: =H13-I13 -> 0
A14: 8 | B14: 令和8年11月 | H14: =SUM(E14:G14) -> 0 | J14: =H14-I14 -> 0
A15: 9 | B15: 令和8年12月 | H15: =SUM(E15:G15) -> 0 | J15: =H15-I15 -> 0
A16: 10 | B16: 令和９年1月 | H16: =SUM(E16:G16) -> 0 | J16: =H16-I16 -> 0
A17: 11 | B17: 令和９年2月 | H17: =SUM(E17:G17) -> 0 | J17: =H17-I17 -> 0
A18: 12 | B18: 令和９年3月 | H18: =SUM(E18:G18) -> 0 | J18: =H18-I18 -> 0
A19: 計 | B19: - | C19: =SUM(C7:C18) -> 0 | D19: =SUM(D7:D18) -> 0 | E19: =SUM(E7:E18) -> 0 | F19: =SUM(F7:F18) -> 0 | G19: =SUM(G7:G18) -> 0 | H19: =SUM(E19:G19) -> 0 | I19: =SUM(I7:I18) -> 0 | J19: =SUM(J7:J18) -> 0
A20: ※人件費及び配食・宅食実施団体の運営に要する経費については補助対象外
A23: (4) その他の収入予定（配食・宅食）
B24: 各回ごとに分けることができない収入（年間の取組に対する寄付金など）を記入。
B25: 収入予定日 | C25: 収入の内容 | F25: 収入額 | G25: 備考
A26: 1
A27: 2
A28: 3
A29: 4
A30: 5
A31: 計 | B31: - | C31: - | F31: =SUM(F26:F30) -> 0 | G31: -
A33: (5) 補助金交付申請額(子ども食堂、配食・宅食）
A34: 補助対象経費の 実支出額（E） | F34: 基準額（F） | G34: 選定額（G）【（E）と（F）を比較して少ない方の額】 | H34: 補助率（H） | I34: 交付申請額 （G）×（H）
A35: 食堂 | C35: 月間開催回数 | D35: 月数 | E35: ='別紙２_明細書（食堂）'!$L$18-'別紙２_明細書（食堂）'!$H$29 -> 0 | F35: =ROUNDDOWN(530000*D36/12,0)+ROUNDDOWN(1060000*D37/12,0)+ROUNDDOWN(1590000*D38/12,0) -> 0 | G35: =IF(E35<F35,E35,F35) -> 0 | H35: 10/10 | I35: =G35*$M$36 -> 0
C36: 1回/月 | D36: =別紙１_実施計画書!R8 -> 0 | L36: 計算用補助率 | M36: 1
C37: 2回/月 | D37: =別紙１_実施計画書!R9 -> 0
C38: 3回以上/月 | D38: =別紙１_実施計画書!R10 -> 0
A39: 配食・宅食 | D39: =$J$19-$F$31 -> 0 | F39: 800000 | G39: =IF(D39<F39,D39,F39) -> 0 | H39: 10/10 | I39: =G39*$M$36 -> 0
A40: 合計 | F40: =B40*$M$36 -> 0 | I40: =SUM(I35:I39) -> 0

Sheet 別紙2_明細書 (立上げ支援)
A1: （第1号様式 別紙2）交付申請額明細書
A3: (6) 子ども食堂の立上げ・支援の拡充に係る経費
A4: 主な支出の内容 | C4: 支出額 | G4: 収入額（Ｊ） | H4: 実支出額 （Ｉ-Ｊ）
C5: 委託費 | D5: 備品購入費 | E5: 支出額合計（Ｉ）
E6: =SUM(C6:D6) -> 0 | H6: =E6-G6 -> 0
E7: =SUM(C7:D7) -> 0 | H7: =E7-G7 -> 0
E8: =SUM(C8:D8) -> 0 | H8: =E8-G8 -> 0
E9: =SUM(C9:D9) -> 0 | H9: =E9-G9 -> 0
E10: =SUM(C10:D10) -> 0 | H10: =E10-G10 -> 0
A12: (7) 補助金交付申請額(子ども食堂立上げ・支援の拡充）
A13: 補助対象経費の 実支出額（Ｋ） | D13: 基準額（Ｌ） | E13: 選定額（Ｍ）【（Ｋ）と（Ｌ）を比較して少ない方の額】 | F13: 補助率（Ｎ） | G13: 交付申請額 （Ｍ）×（Ｎ）
A14: =SUM(H6:H10) -> 0 | D14: 500000 | E14: =MIN(A14:D14) -> 0 | F14: 10/10 | G14: =E14*$K$14 -> 0 | J14: 計算用補助率 | K14: 1
